BEGIN:VCALENDAR
VERSION:2.0
PRODID:-//law.utexas.edu//Course Schedule//EN
CALSCALE:GREGORIAN
METHOD:PUBLISH
BEGIN:VTIMEZONE
TZID:America/Chicago
X-LIC-LOCATION:America/Chicago
BEGIN:DAYLIGHT
TZOFFSETFROM:-0600
TZOFFSETTO:-0500
TZNAME:CDT
DTSTART:19700308T020000
RRULE:FREQ=YEARLY;BYMONTH=3;BYDAY=2SU
END:DAYLIGHT
BEGIN:STANDARD
TZOFFSETFROM:-0500
TZOFFSETTO:-0600
TZNAME:CST
DTSTART:19701101T020000
RRULE:FREQ=YEARLY;BYMONTH=11;BYDAY=1SU
END:STANDARD
END:VTIMEZONE
BEGIN:VEVENT
SUMMARY:National Security Law: Counterterrorism
LOCATION:TNH 2.138
DTSTART;TZID=America/Chicago:20230110T141500
DTEND;TZID=America/Chicago:20230110T153000
RRULE:FREQ=WEEKLY;BYDAY=TU,TH;UNTIL=20230424T220000
EXDATE;TZID=America/Chicago:20230314T141500
EXDATE;TZID=America/Chicago:20230316T141500
UID:3e2d4dc418fd83f2c7bd955081ea763c
DTSTAMP:20260419T083059
DESCRIPTION:Instructors: Adam I. Klein
END:VEVENT
END:VCALENDAR
