BEGIN:VCALENDAR
VERSION:2.0
PRODID:-//law.utexas.edu//Course Schedule//EN
CALSCALE:GREGORIAN
METHOD:PUBLISH
BEGIN:VTIMEZONE
TZID:America/Chicago
X-LIC-LOCATION:America/Chicago
BEGIN:DAYLIGHT
TZOFFSETFROM:-0600
TZOFFSETTO:-0500
TZNAME:CDT
DTSTART:19700308T020000
RRULE:FREQ=YEARLY;BYMONTH=3;BYDAY=2SU
END:DAYLIGHT
BEGIN:STANDARD
TZOFFSETFROM:-0500
TZOFFSETTO:-0600
TZNAME:CST
DTSTART:19701101T020000
RRULE:FREQ=YEARLY;BYMONTH=11;BYDAY=1SU
END:STANDARD
END:VTIMEZONE
BEGIN:VEVENT
SUMMARY:I-35 and the Future of Austin: A Workshop
LOCATION:TNH 3.127
DTSTART;TZID=America/Chicago:20230112T154500
DTEND;TZID=America/Chicago:20230112T174500
RRULE:FREQ=WEEKLY;BYDAY=TH;UNTIL=20230424T220000
EXDATE;TZID=America/Chicago:20230316T154500
UID:76fb9d9050d8e1bb8398da42d708e189
DTSTAMP:20260419T152621
DESCRIPTION:Instructors: Jane M. Cohen
END:VEVENT
BEGIN:VEVENT
SUMMARY:I-35 and the Future of Austin: A Workshop
LOCATION:TNH 3.127
DTSTART;TZID=America/Chicago:20230113T130000
DTEND;TZID=America/Chicago:20230113T160000
RRULE:FREQ=WEEKLY;BYDAY=FR;UNTIL=20230424T220000
UID:d11c28197f4fcde97a9ac070da3a4a91
DTSTAMP:20260419T152621
DESCRIPTION:Instructors: Jane M. Cohen
END:VEVENT
END:VCALENDAR
