BEGIN:VCALENDAR
VERSION:2.0
PRODID:-//law.utexas.edu//Course Schedule//EN
CALSCALE:GREGORIAN
METHOD:PUBLISH
BEGIN:VTIMEZONE
TZID:America/Chicago
X-LIC-LOCATION:America/Chicago
BEGIN:DAYLIGHT
TZOFFSETFROM:-0600
TZOFFSETTO:-0500
TZNAME:CDT
DTSTART:19700308T020000
RRULE:FREQ=YEARLY;BYMONTH=3;BYDAY=2SU
END:DAYLIGHT
BEGIN:STANDARD
TZOFFSETFROM:-0500
TZOFFSETTO:-0600
TZNAME:CST
DTSTART:19701101T020000
RRULE:FREQ=YEARLY;BYMONTH=11;BYDAY=1SU
END:STANDARD
END:VTIMEZONE
BEGIN:VEVENT
SUMMARY:Clinic: Entrepreneurship/Community Development
LOCATION:CCJ 3.306
DTSTART;TZID=America/Chicago:20230109T141500
DTEND;TZID=America/Chicago:20230109T161500
RRULE:FREQ=WEEKLY;BYDAY=MO;UNTIL=20230424T220000
EXDATE;TZID=America/Chicago:20230313T141500
UID:e801929f8466243decc99844aac6ecb3
DTSTAMP:20260421T190520
DESCRIPTION:Instructors: Frances Leos Martinez, Heather K. Way
END:VEVENT
BEGIN:VEVENT
SUMMARY:Clinic: Entrepreneurship/Community Development
LOCATION:CCJ 3.306
DTSTART;TZID=America/Chicago:20230112T091000
DTEND;TZID=America/Chicago:20230112T100000
RRULE:FREQ=WEEKLY;BYDAY=TH;UNTIL=20230424T220000
EXDATE;TZID=America/Chicago:20230316T091000
UID:f336f6c89189e1a6acd01f512d48368d
DTSTAMP:20260421T190520
DESCRIPTION:Instructors: Frances Leos Martinez, Heather K. Way
END:VEVENT
END:VCALENDAR
