BEGIN:VCALENDAR
VERSION:2.0
PRODID:-//law.utexas.edu//Course Schedule//EN
CALSCALE:GREGORIAN
METHOD:PUBLISH
BEGIN:VTIMEZONE
TZID:America/Chicago
X-LIC-LOCATION:America/Chicago
BEGIN:DAYLIGHT
TZOFFSETFROM:-0600
TZOFFSETTO:-0500
TZNAME:CDT
DTSTART:19700308T020000
RRULE:FREQ=YEARLY;BYMONTH=3;BYDAY=2SU
END:DAYLIGHT
BEGIN:STANDARD
TZOFFSETFROM:-0500
TZOFFSETTO:-0600
TZNAME:CST
DTSTART:19701101T020000
RRULE:FREQ=YEARLY;BYMONTH=11;BYDAY=1SU
END:STANDARD
END:VTIMEZONE
BEGIN:VEVENT
SUMMARY:Clinic: Juvenile Justice
LOCATION:JON 6.207
DTSTART;TZID=America/Chicago:20230110T141500
DTEND;TZID=America/Chicago:20230110T153000
RRULE:FREQ=WEEKLY;BYDAY=TU;UNTIL=20230424T220000
EXDATE;TZID=America/Chicago:20230314T141500
UID:08f848e334a6f7e3339acff280fa5af4
DTSTAMP:20260419T103452
DESCRIPTION:Instructors: Pamela J. Sigman
END:VEVENT
BEGIN:VEVENT
SUMMARY:Clinic: Juvenile Justice
LOCATION:TNH 3.126
DTSTART;TZID=America/Chicago:20230112T141500
DTEND;TZID=America/Chicago:20230112T153000
RRULE:FREQ=WEEKLY;BYDAY=TH;UNTIL=20230424T220000
EXDATE;TZID=America/Chicago:20230316T141500
UID:0b566e7bcf7f6469a04c24354505fe79
DTSTAMP:20260419T103452
DESCRIPTION:Instructors: Pamela J. Sigman
END:VEVENT
END:VCALENDAR
