BEGIN:VCALENDAR
VERSION:2.0
PRODID:-//law.utexas.edu//Course Schedule//EN
CALSCALE:GREGORIAN
METHOD:PUBLISH
BEGIN:VTIMEZONE
TZID:America/Chicago
X-LIC-LOCATION:America/Chicago
BEGIN:DAYLIGHT
TZOFFSETFROM:-0600
TZOFFSETTO:-0500
TZNAME:CDT
DTSTART:19700308T020000
RRULE:FREQ=YEARLY;BYMONTH=3;BYDAY=2SU
END:DAYLIGHT
BEGIN:STANDARD
TZOFFSETFROM:-0500
TZOFFSETTO:-0600
TZNAME:CST
DTSTART:19701101T020000
RRULE:FREQ=YEARLY;BYMONTH=11;BYDAY=1SU
END:STANDARD
END:VTIMEZONE
BEGIN:VEVENT
SUMMARY:Criminal Law I
LOCATION:TNH 3.125
DTSTART;TZID=America/Chicago:20230821T143000
DTEND;TZID=America/Chicago:20230821T153700
RRULE:FREQ=WEEKLY;BYDAY=MO,TU,TH;UNTIL=20231204T220000
EXDATE;TZID=America/Chicago:20230904T143000
UID:c6cc77cc8702d4079f34d37a8446d0f0
DTSTAMP:20260419T085339
DESCRIPTION:Instructors: Susan R. Klein
END:VEVENT
END:VCALENDAR
