BEGIN:VCALENDAR
VERSION:2.0
PRODID:-//law.utexas.edu//Course Schedule//EN
CALSCALE:GREGORIAN
METHOD:PUBLISH
BEGIN:VTIMEZONE
TZID:America/Chicago
X-LIC-LOCATION:America/Chicago
BEGIN:DAYLIGHT
TZOFFSETFROM:-0600
TZOFFSETTO:-0500
TZNAME:CDT
DTSTART:19700308T020000
RRULE:FREQ=YEARLY;BYMONTH=3;BYDAY=2SU
END:DAYLIGHT
BEGIN:STANDARD
TZOFFSETFROM:-0500
TZOFFSETTO:-0600
TZNAME:CST
DTSTART:19701101T020000
RRULE:FREQ=YEARLY;BYMONTH=11;BYDAY=1SU
END:STANDARD
END:VTIMEZONE
BEGIN:VEVENT
SUMMARY:Advocacy Survey
LOCATION:TNH 3.140
DTSTART;TZID=America/Chicago:20230821T115000
DTEND;TZID=America/Chicago:20230821T125700
RRULE:FREQ=WEEKLY;BYDAY=MO;UNTIL=20231204T220000
EXDATE;TZID=America/Chicago:20230904T115000
UID:94cae0f74ce8ac3699110b2c66c5048f
DTSTAMP:20260419T104521
DESCRIPTION:Instructors: David M. Gonzalez, David P. Lein
END:VEVENT
BEGIN:VEVENT
SUMMARY:Advocacy Survey
LOCATION:TNH 3.142
DTSTART;TZID=America/Chicago:20230823T115000
DTEND;TZID=America/Chicago:20230823T125700
RRULE:FREQ=WEEKLY;BYDAY=WE;UNTIL=20231204T220000
UID:c70906f73a8db91f9fdb434af2e09ea7
DTSTAMP:20260419T104521
DESCRIPTION:Instructors: David M. Gonzalez, David P. Lein
END:VEVENT
END:VCALENDAR
