BEGIN:VCALENDAR
VERSION:2.0
PRODID:-//law.utexas.edu//Course Schedule//EN
CALSCALE:GREGORIAN
METHOD:PUBLISH
BEGIN:VTIMEZONE
TZID:America/Chicago
X-LIC-LOCATION:America/Chicago
BEGIN:DAYLIGHT
TZOFFSETFROM:-0600
TZOFFSETTO:-0500
TZNAME:CDT
DTSTART:19700308T020000
RRULE:FREQ=YEARLY;BYMONTH=3;BYDAY=2SU
END:DAYLIGHT
BEGIN:STANDARD
TZOFFSETFROM:-0500
TZOFFSETTO:-0600
TZNAME:CST
DTSTART:19701101T020000
RRULE:FREQ=YEARLY;BYMONTH=11;BYDAY=1SU
END:STANDARD
END:VTIMEZONE
BEGIN:VEVENT
SUMMARY:Consumer Protection (Deceptive Trade Practices Act)
LOCATION:TNH 3.129
DTSTART;TZID=America/Chicago:20230821T155500
DTEND;TZID=America/Chicago:20230821T174500
RRULE:FREQ=WEEKLY;BYDAY=MO;UNTIL=20231204T220000
EXDATE;TZID=America/Chicago:20230904T155500
UID:4762e4fdcfaba64f01a7c7de66586ad4
DTSTAMP:20260419T145603
DESCRIPTION:Instructors: Francesca Andrea Di Troia
END:VEVENT
END:VCALENDAR
