BEGIN:VCALENDAR
VERSION:2.0
PRODID:-//law.utexas.edu//Course Schedule//EN
CALSCALE:GREGORIAN
METHOD:PUBLISH
BEGIN:VTIMEZONE
TZID:America/Chicago
X-LIC-LOCATION:America/Chicago
BEGIN:DAYLIGHT
TZOFFSETFROM:-0600
TZOFFSETTO:-0500
TZNAME:CDT
DTSTART:19700308T020000
RRULE:FREQ=YEARLY;BYMONTH=3;BYDAY=2SU
END:DAYLIGHT
BEGIN:STANDARD
TZOFFSETFROM:-0500
TZOFFSETTO:-0600
TZNAME:CST
DTSTART:19701101T020000
RRULE:FREQ=YEARLY;BYMONTH=11;BYDAY=1SU
END:STANDARD
END:VTIMEZONE
BEGIN:VEVENT
SUMMARY:Administrative Law
LOCATION:TNH 3.140
DTSTART;TZID=America/Chicago:20230821T090500
DTEND;TZID=America/Chicago:20230821T101200
RRULE:FREQ=WEEKLY;BYDAY=MO,TU,WE;UNTIL=20231204T220000
EXDATE;TZID=America/Chicago:20230904T090500
UID:b337119e40272830d83c0b4135b364b6
DTSTAMP:20260423T131354
DESCRIPTION:Instructors: David E. Adelman
END:VEVENT
END:VCALENDAR
