BEGIN:VCALENDAR
VERSION:2.0
PRODID:-//law.utexas.edu//Course Schedule//EN
CALSCALE:GREGORIAN
METHOD:PUBLISH
BEGIN:VTIMEZONE
TZID:America/Chicago
X-LIC-LOCATION:America/Chicago
BEGIN:DAYLIGHT
TZOFFSETFROM:-0600
TZOFFSETTO:-0500
TZNAME:CDT
DTSTART:19700308T020000
RRULE:FREQ=YEARLY;BYMONTH=3;BYDAY=2SU
END:DAYLIGHT
BEGIN:STANDARD
TZOFFSETFROM:-0500
TZOFFSETTO:-0600
TZNAME:CST
DTSTART:19701101T020000
RRULE:FREQ=YEARLY;BYMONTH=11;BYDAY=1SU
END:STANDARD
END:VTIMEZONE
BEGIN:VEVENT
SUMMARY:Health Law
LOCATION:TNH 3.142
DTSTART;TZID=America/Chicago:20230822T130500
DTEND;TZID=America/Chicago:20230822T142000
RRULE:FREQ=WEEKLY;BYDAY=TU,TH;UNTIL=20231204T220000
UID:e1ccf89392c644cd4a2b9fe929d092aa
DTSTAMP:20260419T135636
DESCRIPTION:Instructors: Elizabeth W. Sepper
END:VEVENT
END:VCALENDAR
