BEGIN:VCALENDAR
VERSION:2.0
PRODID:-//law.utexas.edu//Course Schedule//EN
CALSCALE:GREGORIAN
METHOD:PUBLISH
BEGIN:VTIMEZONE
TZID:America/Chicago
X-LIC-LOCATION:America/Chicago
BEGIN:DAYLIGHT
TZOFFSETFROM:-0600
TZOFFSETTO:-0500
TZNAME:CDT
DTSTART:19700308T020000
RRULE:FREQ=YEARLY;BYMONTH=3;BYDAY=2SU
END:DAYLIGHT
BEGIN:STANDARD
TZOFFSETFROM:-0500
TZOFFSETTO:-0600
TZNAME:CST
DTSTART:19701101T020000
RRULE:FREQ=YEARLY;BYMONTH=11;BYDAY=1SU
END:STANDARD
END:VTIMEZONE
BEGIN:VEVENT
SUMMARY:Elder Law
LOCATION:JON 6.207
DTSTART;TZID=America/Chicago:20230824T143000
DTEND;TZID=America/Chicago:20230824T162000
RRULE:FREQ=WEEKLY;BYDAY=TH;UNTIL=20231204T220000
UID:039d8baff666159659a6560af73b0d3e
DTSTAMP:20260419T110842
DESCRIPTION:Instructors: Lindsey Drake
END:VEVENT
END:VCALENDAR
