BEGIN:VCALENDAR
VERSION:2.0
PRODID:-//law.utexas.edu//Course Schedule//EN
CALSCALE:GREGORIAN
METHOD:PUBLISH
BEGIN:VTIMEZONE
TZID:America/Chicago
X-LIC-LOCATION:America/Chicago
BEGIN:DAYLIGHT
TZOFFSETFROM:-0600
TZOFFSETTO:-0500
TZNAME:CDT
DTSTART:19700308T020000
RRULE:FREQ=YEARLY;BYMONTH=3;BYDAY=2SU
END:DAYLIGHT
BEGIN:STANDARD
TZOFFSETFROM:-0500
TZOFFSETTO:-0600
TZNAME:CST
DTSTART:19701101T020000
RRULE:FREQ=YEARLY;BYMONTH=11;BYDAY=1SU
END:STANDARD
END:VTIMEZONE
BEGIN:VEVENT
SUMMARY:White Collar Defense and Investigations
LOCATION:JON 5.257
DTSTART;TZID=America/Chicago:20230821T095000
DTEND;TZID=America/Chicago:20230821T114000
RRULE:FREQ=WEEKLY;BYDAY=MO;UNTIL=20231204T220000
EXDATE;TZID=America/Chicago:20230904T095000
UID:aab1215ffc507ac485dd89dbe2a422cc
DTSTAMP:20260419T085309
DESCRIPTION:Instructors: Sara Catherine Clark
END:VEVENT
END:VCALENDAR
