BEGIN:VCALENDAR
VERSION:2.0
PRODID:-//law.utexas.edu//Course Schedule//EN
CALSCALE:GREGORIAN
METHOD:PUBLISH
BEGIN:VTIMEZONE
TZID:America/Chicago
X-LIC-LOCATION:America/Chicago
BEGIN:DAYLIGHT
TZOFFSETFROM:-0600
TZOFFSETTO:-0500
TZNAME:CDT
DTSTART:19700308T020000
RRULE:FREQ=YEARLY;BYMONTH=3;BYDAY=2SU
END:DAYLIGHT
BEGIN:STANDARD
TZOFFSETFROM:-0500
TZOFFSETTO:-0600
TZNAME:CST
DTSTART:19701101T020000
RRULE:FREQ=YEARLY;BYMONTH=11;BYDAY=1SU
END:STANDARD
END:VTIMEZONE
BEGIN:VEVENT
SUMMARY:Sneaker Law: Legal Issues in Apparel & Trademark
LOCATION:TNH 3.124
DTSTART;TZID=America/Chicago:20230821T130500
DTEND;TZID=America/Chicago:20230821T142000
RRULE:FREQ=WEEKLY;BYDAY=MO;UNTIL=20231204T220000
EXDATE;TZID=America/Chicago:20230904T130500
UID:2450ce905ec4d279be164c3864fd9603
DTSTAMP:20260419T214944
DESCRIPTION:Instructors: Christopher Henry Sokol
END:VEVENT
BEGIN:VEVENT
SUMMARY:Sneaker Law: Legal Issues in Apparel & Trademark
LOCATION:JON 5.206
DTSTART;TZID=America/Chicago:20230823T130500
DTEND;TZID=America/Chicago:20230823T142000
RRULE:FREQ=WEEKLY;BYDAY=WE;UNTIL=20231204T220000
UID:46edfcb0c336e7c49f30487427c86a9f
DTSTAMP:20260419T214944
DESCRIPTION:Instructors: Christopher Henry Sokol
END:VEVENT
END:VCALENDAR
