BEGIN:VCALENDAR
VERSION:2.0
PRODID:-//law.utexas.edu//Course Schedule//EN
CALSCALE:GREGORIAN
METHOD:PUBLISH
BEGIN:VTIMEZONE
TZID:America/Chicago
X-LIC-LOCATION:America/Chicago
BEGIN:DAYLIGHT
TZOFFSETFROM:-0600
TZOFFSETTO:-0500
TZNAME:CDT
DTSTART:19700308T020000
RRULE:FREQ=YEARLY;BYMONTH=3;BYDAY=2SU
END:DAYLIGHT
BEGIN:STANDARD
TZOFFSETFROM:-0500
TZOFFSETTO:-0600
TZNAME:CST
DTSTART:19701101T020000
RRULE:FREQ=YEARLY;BYMONTH=11;BYDAY=1SU
END:STANDARD
END:VTIMEZONE
BEGIN:VEVENT
SUMMARY:Clinic: Housing Policy
LOCATION:CCJ 3.306
DTSTART;TZID=America/Chicago:20230822T103000
DTEND;TZID=America/Chicago:20230822T114500
RRULE:FREQ=WEEKLY;BYDAY=TU,WE,TH;UNTIL=20231204T220000
UID:bcfb58d78769e1a366800ff693283105
DTSTAMP:20260421T202442
DESCRIPTION:Instructors: Heather K. Way
END:VEVENT
END:VCALENDAR
