BEGIN:VCALENDAR
VERSION:2.0
PRODID:-//law.utexas.edu//Course Schedule//EN
CALSCALE:GREGORIAN
METHOD:PUBLISH
BEGIN:VTIMEZONE
TZID:America/Chicago
X-LIC-LOCATION:America/Chicago
BEGIN:DAYLIGHT
TZOFFSETFROM:-0600
TZOFFSETTO:-0500
TZNAME:CDT
DTSTART:19700308T020000
RRULE:FREQ=YEARLY;BYMONTH=3;BYDAY=2SU
END:DAYLIGHT
BEGIN:STANDARD
TZOFFSETFROM:-0500
TZOFFSETTO:-0600
TZNAME:CST
DTSTART:19701101T020000
RRULE:FREQ=YEARLY;BYMONTH=11;BYDAY=1SU
END:STANDARD
END:VTIMEZONE
BEGIN:VEVENT
SUMMARY:SMNR: Election Law and Policy
LOCATION:JON 6.257
DTSTART;TZID=America/Chicago:20230822T155500
DTEND;TZID=America/Chicago:20230822T174500
RRULE:FREQ=WEEKLY;BYDAY=TU;UNTIL=20231204T220000
UID:b18a1f057bf4cb04a4c3519c57508bc1
DTSTAMP:20260419T082401
DESCRIPTION:Instructors: Joaquin R. Gonzalez, Mimi Marziani
END:VEVENT
END:VCALENDAR
