BEGIN:VCALENDAR
VERSION:2.0
PRODID:-//law.utexas.edu//Course Schedule//EN
CALSCALE:GREGORIAN
METHOD:PUBLISH
BEGIN:VTIMEZONE
TZID:America/Chicago
X-LIC-LOCATION:America/Chicago
BEGIN:DAYLIGHT
TZOFFSETFROM:-0600
TZOFFSETTO:-0500
TZNAME:CDT
DTSTART:19700308T020000
RRULE:FREQ=YEARLY;BYMONTH=3;BYDAY=2SU
END:DAYLIGHT
BEGIN:STANDARD
TZOFFSETFROM:-0500
TZOFFSETTO:-0600
TZNAME:CST
DTSTART:19701101T020000
RRULE:FREQ=YEARLY;BYMONTH=11;BYDAY=1SU
END:STANDARD
END:VTIMEZONE
BEGIN:VEVENT
SUMMARY:SMNR: Political Parties in the Law of Democracy
LOCATION:TNH 3.115
DTSTART;TZID=America/Chicago:20230824T143000
DTEND;TZID=America/Chicago:20230824T162000
RRULE:FREQ=WEEKLY;BYDAY=TH;UNTIL=20231204T220000
UID:3a4a4d85bbf73ec71cdf0599d867e690
DTSTAMP:20260420T114004
DESCRIPTION:Instructors: D. Theodore Rave
END:VEVENT
END:VCALENDAR
