BEGIN:VCALENDAR
VERSION:2.0
PRODID:-//law.utexas.edu//Course Schedule//EN
CALSCALE:GREGORIAN
METHOD:PUBLISH
BEGIN:VTIMEZONE
TZID:America/Chicago
X-LIC-LOCATION:America/Chicago
BEGIN:DAYLIGHT
TZOFFSETFROM:-0600
TZOFFSETTO:-0500
TZNAME:CDT
DTSTART:19700308T020000
RRULE:FREQ=YEARLY;BYMONTH=3;BYDAY=2SU
END:DAYLIGHT
BEGIN:STANDARD
TZOFFSETFROM:-0500
TZOFFSETTO:-0600
TZNAME:CST
DTSTART:19701101T020000
RRULE:FREQ=YEARLY;BYMONTH=11;BYDAY=1SU
END:STANDARD
END:VTIMEZONE
BEGIN:VEVENT
SUMMARY:Contracts
LOCATION:TNH 2.137
DTSTART;TZID=America/Chicago:20240116T090500
DTEND;TZID=America/Chicago:20240116T095500
RRULE:FREQ=WEEKLY;BYDAY=MO,TU,WE,TH;UNTIL=20240429T220000
EXDATE;TZID=America/Chicago:20240311T090500
EXDATE;TZID=America/Chicago:20240312T090500
EXDATE;TZID=America/Chicago:20240313T090500
EXDATE;TZID=America/Chicago:20240314T090500
UID:dd37bc8854a76c7c3b211126364f5998
DTSTAMP:20260420T112749
DESCRIPTION:Instructors: David S. Sokolow
END:VEVENT
END:VCALENDAR
