BEGIN:VCALENDAR
VERSION:2.0
PRODID:-//law.utexas.edu//Course Schedule//EN
CALSCALE:GREGORIAN
METHOD:PUBLISH
BEGIN:VTIMEZONE
TZID:America/Chicago
X-LIC-LOCATION:America/Chicago
BEGIN:DAYLIGHT
TZOFFSETFROM:-0600
TZOFFSETTO:-0500
TZNAME:CDT
DTSTART:19700308T020000
RRULE:FREQ=YEARLY;BYMONTH=3;BYDAY=2SU
END:DAYLIGHT
BEGIN:STANDARD
TZOFFSETFROM:-0500
TZOFFSETTO:-0600
TZNAME:CST
DTSTART:19701101T020000
RRULE:FREQ=YEARLY;BYMONTH=11;BYDAY=1SU
END:STANDARD
END:VTIMEZONE
BEGIN:VEVENT
SUMMARY:Criminal Law I
LOCATION:TNH 2.138
DTSTART;TZID=America/Chicago:20240116T143000
DTEND;TZID=America/Chicago:20240116T153700
RRULE:FREQ=WEEKLY;BYDAY=MO,TU,WE;UNTIL=20240429T220000
EXDATE;TZID=America/Chicago:20240311T143000
EXDATE;TZID=America/Chicago:20240312T143000
EXDATE;TZID=America/Chicago:20240313T143000
UID:814bb52ab5d841fd09536ae82a192a8a
DTSTAMP:20260420T081032
DESCRIPTION:Instructors: Steven Goode
END:VEVENT
END:VCALENDAR
