BEGIN:VCALENDAR
VERSION:2.0
PRODID:-//law.utexas.edu//Course Schedule//EN
CALSCALE:GREGORIAN
METHOD:PUBLISH
BEGIN:VTIMEZONE
TZID:America/Chicago
X-LIC-LOCATION:America/Chicago
BEGIN:DAYLIGHT
TZOFFSETFROM:-0600
TZOFFSETTO:-0500
TZNAME:CDT
DTSTART:19700308T020000
RRULE:FREQ=YEARLY;BYMONTH=3;BYDAY=2SU
END:DAYLIGHT
BEGIN:STANDARD
TZOFFSETFROM:-0500
TZOFFSETTO:-0600
TZNAME:CST
DTSTART:19701101T020000
RRULE:FREQ=YEARLY;BYMONTH=11;BYDAY=1SU
END:STANDARD
END:VTIMEZONE
BEGIN:VEVENT
SUMMARY:Persuasive Writing and Advocacy
LOCATION:TNH 3.124
DTSTART;TZID=America/Chicago:20240118T130500
DTEND;TZID=America/Chicago:20240118T141200
RRULE:FREQ=WEEKLY;BYDAY=TH;UNTIL=20240429T220000
EXDATE;TZID=America/Chicago:20240314T130500
UID:528e766f668cb1e000202f6c1a54e544
DTSTAMP:20260419T172915
DESCRIPTION:Instructors: Sean J. Petrie
END:VEVENT
BEGIN:VEVENT
SUMMARY:Persuasive Writing and Advocacy
LOCATION:TNH 3.124
DTSTART;TZID=America/Chicago:20240119T115000
DTEND;TZID=America/Chicago:20240119T125700
RRULE:FREQ=WEEKLY;BYDAY=FR;UNTIL=20240429T220000
UID:df7fe634aeac7c088fbc4395b9462835
DTSTAMP:20260419T172915
DESCRIPTION:Instructors: Sean J. Petrie
END:VEVENT
END:VCALENDAR
