BEGIN:VCALENDAR
VERSION:2.0
PRODID:-//law.utexas.edu//Course Schedule//EN
CALSCALE:GREGORIAN
METHOD:PUBLISH
BEGIN:VTIMEZONE
TZID:America/Chicago
X-LIC-LOCATION:America/Chicago
BEGIN:DAYLIGHT
TZOFFSETFROM:-0600
TZOFFSETTO:-0500
TZNAME:CDT
DTSTART:19700308T020000
RRULE:FREQ=YEARLY;BYMONTH=3;BYDAY=2SU
END:DAYLIGHT
BEGIN:STANDARD
TZOFFSETFROM:-0500
TZOFFSETTO:-0600
TZNAME:CST
DTSTART:19701101T020000
RRULE:FREQ=YEARLY;BYMONTH=11;BYDAY=1SU
END:STANDARD
END:VTIMEZONE
BEGIN:VEVENT
SUMMARY:Legal Research, Advanced: Texas Law
LOCATION:JON 3.222
DTSTART;TZID=America/Chicago:20240117T095000
DTEND;TZID=America/Chicago:20240117T114000
RRULE:FREQ=WEEKLY;BYDAY=WE;UNTIL=20240429T220000
EXDATE;TZID=America/Chicago:20240313T095000
UID:70b3a1559b7a69e3679b41b6e38cd213
DTSTAMP:20260419T163408
DESCRIPTION:Instructors: Kasia Solon Cristobal
END:VEVENT
END:VCALENDAR
