BEGIN:VCALENDAR
VERSION:2.0
PRODID:-//law.utexas.edu//Course Schedule//EN
CALSCALE:GREGORIAN
METHOD:PUBLISH
BEGIN:VTIMEZONE
TZID:America/Chicago
X-LIC-LOCATION:America/Chicago
BEGIN:DAYLIGHT
TZOFFSETFROM:-0600
TZOFFSETTO:-0500
TZNAME:CDT
DTSTART:19700308T020000
RRULE:FREQ=YEARLY;BYMONTH=3;BYDAY=2SU
END:DAYLIGHT
BEGIN:STANDARD
TZOFFSETFROM:-0500
TZOFFSETTO:-0600
TZNAME:CST
DTSTART:19701101T020000
RRULE:FREQ=YEARLY;BYMONTH=11;BYDAY=1SU
END:STANDARD
END:VTIMEZONE
BEGIN:VEVENT
SUMMARY:Sports Law
LOCATION:JON 6.206
DTSTART;TZID=America/Chicago:20240116T090500
DTEND;TZID=America/Chicago:20240116T095500
RRULE:FREQ=WEEKLY;BYDAY=TU,WE,TH;UNTIL=20240429T220000
EXDATE;TZID=America/Chicago:20240312T090500
EXDATE;TZID=America/Chicago:20240313T090500
EXDATE;TZID=America/Chicago:20240314T090500
UID:941429d3f1be9dea8de3c79d96279ae1
DTSTAMP:20260419T152811
DESCRIPTION:Instructors: Lucas A. Powe Jr.
END:VEVENT
END:VCALENDAR
