BEGIN:VCALENDAR
VERSION:2.0
PRODID:-//law.utexas.edu//Course Schedule//EN
CALSCALE:GREGORIAN
METHOD:PUBLISH
BEGIN:VTIMEZONE
TZID:America/Chicago
X-LIC-LOCATION:America/Chicago
BEGIN:DAYLIGHT
TZOFFSETFROM:-0600
TZOFFSETTO:-0500
TZNAME:CDT
DTSTART:19700308T020000
RRULE:FREQ=YEARLY;BYMONTH=3;BYDAY=2SU
END:DAYLIGHT
BEGIN:STANDARD
TZOFFSETFROM:-0500
TZOFFSETTO:-0600
TZNAME:CST
DTSTART:19701101T020000
RRULE:FREQ=YEARLY;BYMONTH=11;BYDAY=1SU
END:STANDARD
END:VTIMEZONE
BEGIN:VEVENT
SUMMARY:National Security Law: Counterterrorism
LOCATION:TNH 2.139
DTSTART;TZID=America/Chicago:20240117T143000
DTEND;TZID=America/Chicago:20240117T154500
RRULE:FREQ=WEEKLY;BYDAY=MO,WE;UNTIL=20240429T220000
EXDATE;TZID=America/Chicago:20240311T143000
EXDATE;TZID=America/Chicago:20240313T143000
UID:07c86c2fec7882c72c78fdf51a88cf28
DTSTAMP:20260419T083124
DESCRIPTION:Instructors: Adam I. Klein
END:VEVENT
END:VCALENDAR
