BEGIN:VCALENDAR
VERSION:2.0
PRODID:-//law.utexas.edu//Course Schedule//EN
CALSCALE:GREGORIAN
METHOD:PUBLISH
BEGIN:VTIMEZONE
TZID:America/Chicago
X-LIC-LOCATION:America/Chicago
BEGIN:DAYLIGHT
TZOFFSETFROM:-0600
TZOFFSETTO:-0500
TZNAME:CDT
DTSTART:19700308T020000
RRULE:FREQ=YEARLY;BYMONTH=3;BYDAY=2SU
END:DAYLIGHT
BEGIN:STANDARD
TZOFFSETFROM:-0500
TZOFFSETTO:-0600
TZNAME:CST
DTSTART:19701101T020000
RRULE:FREQ=YEARLY;BYMONTH=11;BYDAY=1SU
END:STANDARD
END:VTIMEZONE
BEGIN:VEVENT
SUMMARY:Water Law and Policy for the Twenty-First Century
LOCATION:TNH 3.127
DTSTART;TZID=America/Chicago:20240116T130500
DTEND;TZID=America/Chicago:20240116T142000
RRULE:FREQ=WEEKLY;BYDAY=TU,TH;UNTIL=20240429T220000
EXDATE;TZID=America/Chicago:20240312T130500
EXDATE;TZID=America/Chicago:20240314T130500
UID:69c83c8e077d24287c32f00631f10de2
DTSTAMP:20260419T111107
DESCRIPTION:Instructors: Jane M. Cohen
END:VEVENT
END:VCALENDAR
