BEGIN:VCALENDAR
VERSION:2.0
PRODID:-//law.utexas.edu//Course Schedule//EN
CALSCALE:GREGORIAN
METHOD:PUBLISH
BEGIN:VTIMEZONE
TZID:America/Chicago
X-LIC-LOCATION:America/Chicago
BEGIN:DAYLIGHT
TZOFFSETFROM:-0600
TZOFFSETTO:-0500
TZNAME:CDT
DTSTART:19700308T020000
RRULE:FREQ=YEARLY;BYMONTH=3;BYDAY=2SU
END:DAYLIGHT
BEGIN:STANDARD
TZOFFSETFROM:-0500
TZOFFSETTO:-0600
TZNAME:CST
DTSTART:19701101T020000
RRULE:FREQ=YEARLY;BYMONTH=11;BYDAY=1SU
END:STANDARD
END:VTIMEZONE
BEGIN:VEVENT
SUMMARY:Crypto, Law, and Policy
LOCATION:TNH 3.124
DTSTART;TZID=America/Chicago:20240119T130500
DTEND;TZID=America/Chicago:20240119T200500
RRULE:FREQ=WEEKLY;BYDAY=FR;UNTIL=20240429T220000
UID:9ccc1c0bbc6773a0ca458a92e53637ba
DTSTAMP:20260419T164809
DESCRIPTION:Instructors: Sina Kian
END:VEVENT
BEGIN:VEVENT
SUMMARY:Crypto, Law, and Policy
LOCATION:TNH 3.124
DTSTART;TZID=America/Chicago:20240120T090000
DTEND;TZID=America/Chicago:20240120T160000
RRULE:FREQ=WEEKLY;BYDAY=SA;UNTIL=20240429T220000
UID:124c12040a67a1313e7993d032d098da
DTSTAMP:20260419T164809
DESCRIPTION:Instructors: Sina Kian
END:VEVENT
END:VCALENDAR
