BEGIN:VCALENDAR
VERSION:2.0
PRODID:-//law.utexas.edu//Course Schedule//EN
CALSCALE:GREGORIAN
METHOD:PUBLISH
BEGIN:VTIMEZONE
TZID:America/Chicago
X-LIC-LOCATION:America/Chicago
BEGIN:DAYLIGHT
TZOFFSETFROM:-0600
TZOFFSETTO:-0500
TZNAME:CDT
DTSTART:19700308T020000
RRULE:FREQ=YEARLY;BYMONTH=3;BYDAY=2SU
END:DAYLIGHT
BEGIN:STANDARD
TZOFFSETFROM:-0500
TZOFFSETTO:-0600
TZNAME:CST
DTSTART:19701101T020000
RRULE:FREQ=YEARLY;BYMONTH=11;BYDAY=1SU
END:STANDARD
END:VTIMEZONE
BEGIN:VEVENT
SUMMARY:Internship: Public Service
LOCATION:JON 6.207
DTSTART;TZID=America/Chicago:20240122T155500
DTEND;TZID=America/Chicago:20240122T171000
RRULE:FREQ=WEEKLY;BYDAY=MO;UNTIL=20240429T220000
EXDATE;TZID=America/Chicago:20240311T155500
UID:1ef127247b8f4cd5e38b7ebfceaee487
DTSTAMP:20260420T081014
DESCRIPTION:Instructors: Nicole Sheree Simmons
END:VEVENT
END:VCALENDAR
