BEGIN:VCALENDAR
VERSION:2.0
PRODID:-//law.utexas.edu//Course Schedule//EN
CALSCALE:GREGORIAN
METHOD:PUBLISH
BEGIN:VTIMEZONE
TZID:America/Chicago
X-LIC-LOCATION:America/Chicago
BEGIN:DAYLIGHT
TZOFFSETFROM:-0600
TZOFFSETTO:-0500
TZNAME:CDT
DTSTART:19700308T020000
RRULE:FREQ=YEARLY;BYMONTH=3;BYDAY=2SU
END:DAYLIGHT
BEGIN:STANDARD
TZOFFSETFROM:-0500
TZOFFSETTO:-0600
TZNAME:CST
DTSTART:19701101T020000
RRULE:FREQ=YEARLY;BYMONTH=11;BYDAY=1SU
END:STANDARD
END:VTIMEZONE
BEGIN:VEVENT
SUMMARY:SMNR: Business Law Workshop
LOCATION:TNH 3.124
DTSTART;TZID=America/Chicago:20240118T155500
DTEND;TZID=America/Chicago:20240118T174500
RRULE:FREQ=WEEKLY;BYDAY=TH;UNTIL=20240429T220000
EXDATE;TZID=America/Chicago:20240314T155500
UID:f8a94c1e9be1ac8a401fb11b87f3c1e9
DTSTAMP:20260419T171235
DESCRIPTION:Instructors: James C. Spindler, Jens Christian Dammann, Mira Ganor
END:VEVENT
END:VCALENDAR
