BEGIN:VCALENDAR
VERSION:2.0
PRODID:-//law.utexas.edu//Course Schedule//EN
CALSCALE:GREGORIAN
METHOD:PUBLISH
BEGIN:VTIMEZONE
TZID:America/Chicago
X-LIC-LOCATION:America/Chicago
BEGIN:DAYLIGHT
TZOFFSETFROM:-0600
TZOFFSETTO:-0500
TZNAME:CDT
DTSTART:19700308T020000
RRULE:FREQ=YEARLY;BYMONTH=3;BYDAY=2SU
END:DAYLIGHT
BEGIN:STANDARD
TZOFFSETFROM:-0500
TZOFFSETTO:-0600
TZNAME:CST
DTSTART:19701101T020000
RRULE:FREQ=YEARLY;BYMONTH=11;BYDAY=1SU
END:STANDARD
END:VTIMEZONE
BEGIN:VEVENT
SUMMARY:SMNR: Law and Philosophy Workshop
LOCATION:JON 5.206
DTSTART;TZID=America/Chicago:20240116T155500
DTEND;TZID=America/Chicago:20240116T174500
RRULE:FREQ=WEEKLY;BYDAY=TU;UNTIL=20240429T220000
EXDATE;TZID=America/Chicago:20240312T155500
UID:dfd1db12eaf7741580a66a3009db632c
DTSTAMP:20260419T133755
DESCRIPTION:Instructors: John Deigh, Lawrence Sager
END:VEVENT
END:VCALENDAR
