BEGIN:VCALENDAR
VERSION:2.0
PRODID:-//law.utexas.edu//Course Schedule//EN
CALSCALE:GREGORIAN
METHOD:PUBLISH
BEGIN:VTIMEZONE
TZID:America/Chicago
X-LIC-LOCATION:America/Chicago
BEGIN:DAYLIGHT
TZOFFSETFROM:-0600
TZOFFSETTO:-0500
TZNAME:CDT
DTSTART:19700308T020000
RRULE:FREQ=YEARLY;BYMONTH=3;BYDAY=2SU
END:DAYLIGHT
BEGIN:STANDARD
TZOFFSETFROM:-0500
TZOFFSETTO:-0600
TZNAME:CST
DTSTART:19701101T020000
RRULE:FREQ=YEARLY;BYMONTH=11;BYDAY=1SU
END:STANDARD
END:VTIMEZONE
BEGIN:VEVENT
SUMMARY:Criminal Law I
LOCATION:TNH 3.125
DTSTART;TZID=America/Chicago:20240827T090500
DTEND;TZID=America/Chicago:20240827T101200
RRULE:FREQ=WEEKLY;BYDAY=TU,WE,TH;UNTIL=20241209T220000
UID:8e2cf69e7d2e7a570b77a6eeeb4cf2c7
DTSTAMP:20260419T130943
DESCRIPTION:Instructors: Derek P. Jinks
END:VEVENT
END:VCALENDAR
