BEGIN:VCALENDAR
VERSION:2.0
PRODID:-//law.utexas.edu//Course Schedule//EN
CALSCALE:GREGORIAN
METHOD:PUBLISH
BEGIN:VTIMEZONE
TZID:America/Chicago
X-LIC-LOCATION:America/Chicago
BEGIN:DAYLIGHT
TZOFFSETFROM:-0600
TZOFFSETTO:-0500
TZNAME:CDT
DTSTART:19700308T020000
RRULE:FREQ=YEARLY;BYMONTH=3;BYDAY=2SU
END:DAYLIGHT
BEGIN:STANDARD
TZOFFSETFROM:-0500
TZOFFSETTO:-0600
TZNAME:CST
DTSTART:19701101T020000
RRULE:FREQ=YEARLY;BYMONTH=11;BYDAY=1SU
END:STANDARD
END:VTIMEZONE
BEGIN:VEVENT
SUMMARY:Legal Analysis and Communication
LOCATION:TNH 2.123
DTSTART;TZID=America/Chicago:20240827T103000
DTEND;TZID=America/Chicago:20240827T113700
RRULE:FREQ=WEEKLY;BYDAY=TU;UNTIL=20241209T220000
UID:a05d1642546d9b1c39504396983b6dfb
DTSTAMP:20260425T112651
DESCRIPTION:Instructors: Kayla Oliver
END:VEVENT
BEGIN:VEVENT
SUMMARY:Legal Analysis and Communication
LOCATION:TNH 3.126
DTSTART;TZID=America/Chicago:20240829T143000
DTEND;TZID=America/Chicago:20240829T153700
RRULE:FREQ=WEEKLY;BYDAY=TH;UNTIL=20241209T220000
UID:80d692836d2c5615985dcf33fa1f0ef1
DTSTAMP:20260425T112651
DESCRIPTION:Instructors: Kayla Oliver
END:VEVENT
END:VCALENDAR
