BEGIN:VCALENDAR
VERSION:2.0
PRODID:-//law.utexas.edu//Course Schedule//EN
CALSCALE:GREGORIAN
METHOD:PUBLISH
BEGIN:VTIMEZONE
TZID:America/Chicago
X-LIC-LOCATION:America/Chicago
BEGIN:DAYLIGHT
TZOFFSETFROM:-0600
TZOFFSETTO:-0500
TZNAME:CDT
DTSTART:19700308T020000
RRULE:FREQ=YEARLY;BYMONTH=3;BYDAY=2SU
END:DAYLIGHT
BEGIN:STANDARD
TZOFFSETFROM:-0500
TZOFFSETTO:-0600
TZNAME:CST
DTSTART:19701101T020000
RRULE:FREQ=YEARLY;BYMONTH=11;BYDAY=1SU
END:STANDARD
END:VTIMEZONE
BEGIN:VEVENT
SUMMARY:Legal Analysis and Communication
LOCATION:TNH 2.124
DTSTART;TZID=America/Chicago:20240829T130500
DTEND;TZID=America/Chicago:20240829T141200
RRULE:FREQ=WEEKLY;BYDAY=TH;UNTIL=20241209T220000
UID:d29b4ac85a653f4f00f0506e68251ba0
DTSTAMP:20260419T114750
DESCRIPTION:Instructors: Lori R. Mason
END:VEVENT
BEGIN:VEVENT
SUMMARY:Legal Analysis and Communication
LOCATION:TNH 2.124
DTSTART;TZID=America/Chicago:20240830T103000
DTEND;TZID=America/Chicago:20240830T113700
RRULE:FREQ=WEEKLY;BYDAY=FR;UNTIL=20241209T220000
UID:87d2194826a2772fe0527a5c93edf382
DTSTAMP:20260419T114750
DESCRIPTION:Instructors: Lori R. Mason
END:VEVENT
END:VCALENDAR
