BEGIN:VCALENDAR
VERSION:2.0
PRODID:-//law.utexas.edu//Course Schedule//EN
CALSCALE:GREGORIAN
METHOD:PUBLISH
BEGIN:VTIMEZONE
TZID:America/Chicago
X-LIC-LOCATION:America/Chicago
BEGIN:DAYLIGHT
TZOFFSETFROM:-0600
TZOFFSETTO:-0500
TZNAME:CDT
DTSTART:19700308T020000
RRULE:FREQ=YEARLY;BYMONTH=3;BYDAY=2SU
END:DAYLIGHT
BEGIN:STANDARD
TZOFFSETFROM:-0500
TZOFFSETTO:-0600
TZNAME:CST
DTSTART:19701101T020000
RRULE:FREQ=YEARLY;BYMONTH=11;BYDAY=1SU
END:STANDARD
END:VTIMEZONE
BEGIN:VEVENT
SUMMARY:The Future of Administrative Law in the U.S. Supreme Court
LOCATION:TNH 3.129
DTSTART;TZID=America/Chicago:20240830T143000
DTEND;TZID=America/Chicago:20240830T162000
RRULE:FREQ=WEEKLY;BYDAY=FR;UNTIL=20241209T220000
UID:8fbe3aa79060c90f05cb33e9f45d512c
DTSTAMP:20260419T130951
DESCRIPTION:Instructors: Aaron L. Nielson
END:VEVENT
END:VCALENDAR
