BEGIN:VCALENDAR
VERSION:2.0
PRODID:-//law.utexas.edu//Course Schedule//EN
CALSCALE:GREGORIAN
METHOD:PUBLISH
BEGIN:VTIMEZONE
TZID:America/Chicago
X-LIC-LOCATION:America/Chicago
BEGIN:DAYLIGHT
TZOFFSETFROM:-0600
TZOFFSETTO:-0500
TZNAME:CDT
DTSTART:19700308T020000
RRULE:FREQ=YEARLY;BYMONTH=3;BYDAY=2SU
END:DAYLIGHT
BEGIN:STANDARD
TZOFFSETFROM:-0500
TZOFFSETTO:-0600
TZNAME:CST
DTSTART:19701101T020000
RRULE:FREQ=YEARLY;BYMONTH=11;BYDAY=1SU
END:STANDARD
END:VTIMEZONE
BEGIN:VEVENT
SUMMARY:Advocacy Survey: Skills
LOCATION:CCJ 3.306
DTSTART;TZID=America/Chicago:20240828T175500
DTEND;TZID=America/Chicago:20240828T205500
RRULE:FREQ=WEEKLY;BYDAY=WE;UNTIL=20241209T220000
UID:10da007f4269dcd85a0363150e7f8a35
DTSTAMP:20260419T081210
DESCRIPTION:Instructors: David M. Gonzalez, Guillermo Jose Gonzalez, James C. Winters
END:VEVENT
END:VCALENDAR
