BEGIN:VCALENDAR
VERSION:2.0
PRODID:-//law.utexas.edu//Course Schedule//EN
CALSCALE:GREGORIAN
METHOD:PUBLISH
BEGIN:VTIMEZONE
TZID:America/Chicago
X-LIC-LOCATION:America/Chicago
BEGIN:DAYLIGHT
TZOFFSETFROM:-0600
TZOFFSETTO:-0500
TZNAME:CDT
DTSTART:19700308T020000
RRULE:FREQ=YEARLY;BYMONTH=3;BYDAY=2SU
END:DAYLIGHT
BEGIN:STANDARD
TZOFFSETFROM:-0500
TZOFFSETTO:-0600
TZNAME:CST
DTSTART:19701101T020000
RRULE:FREQ=YEARLY;BYMONTH=11;BYDAY=1SU
END:STANDARD
END:VTIMEZONE
BEGIN:VEVENT
SUMMARY:Workforce Development Policy: Economic Mobility and the Future of Work
LOCATION:SRH 3.212
DTSTART;TZID=America/Chicago:20240828T140000
DTEND;TZID=America/Chicago:20240828T170000
RRULE:FREQ=WEEKLY;BYDAY=WE;UNTIL=20241209T220000
UID:d21e9b37cf08ffc658dafabb79770edd
DTSTAMP:20260419T104222
DESCRIPTION:Instructors: Carey O'Connor
END:VEVENT
END:VCALENDAR
