BEGIN:VCALENDAR
VERSION:2.0
PRODID:-//law.utexas.edu//Course Schedule//EN
CALSCALE:GREGORIAN
METHOD:PUBLISH
BEGIN:VTIMEZONE
TZID:America/Chicago
X-LIC-LOCATION:America/Chicago
BEGIN:DAYLIGHT
TZOFFSETFROM:-0600
TZOFFSETTO:-0500
TZNAME:CDT
DTSTART:19700308T020000
RRULE:FREQ=YEARLY;BYMONTH=3;BYDAY=2SU
END:DAYLIGHT
BEGIN:STANDARD
TZOFFSETFROM:-0500
TZOFFSETTO:-0600
TZNAME:CST
DTSTART:19701101T020000
RRULE:FREQ=YEARLY;BYMONTH=11;BYDAY=1SU
END:STANDARD
END:VTIMEZONE
BEGIN:VEVENT
SUMMARY:Environmental Law & Natural Resources
LOCATION:TNH 2.138
DTSTART;TZID=America/Chicago:20240827T103000
DTEND;TZID=America/Chicago:20240827T114500
RRULE:FREQ=WEEKLY;BYDAY=TU,TH;UNTIL=20241209T220000
UID:5adfc22c5128aafb75b597a079517c72
DTSTAMP:20260424T141359
DESCRIPTION:Instructors: Melinda E. Taylor
END:VEVENT
END:VCALENDAR
