BEGIN:VCALENDAR
VERSION:2.0
PRODID:-//law.utexas.edu//Course Schedule//EN
CALSCALE:GREGORIAN
METHOD:PUBLISH
BEGIN:VTIMEZONE
TZID:America/Chicago
X-LIC-LOCATION:America/Chicago
BEGIN:DAYLIGHT
TZOFFSETFROM:-0600
TZOFFSETTO:-0500
TZNAME:CDT
DTSTART:19700308T020000
RRULE:FREQ=YEARLY;BYMONTH=3;BYDAY=2SU
END:DAYLIGHT
BEGIN:STANDARD
TZOFFSETFROM:-0500
TZOFFSETTO:-0600
TZNAME:CST
DTSTART:19701101T020000
RRULE:FREQ=YEARLY;BYMONTH=11;BYDAY=1SU
END:STANDARD
END:VTIMEZONE
BEGIN:VEVENT
SUMMARY:U.S. Law, an Introduction
LOCATION:TNH 2.137
DTSTART;TZID=America/Chicago:20240826T143000
DTEND;TZID=America/Chicago:20240826T154500
RRULE:FREQ=WEEKLY;BYDAY=MO;UNTIL=20241209T220000
EXDATE;TZID=America/Chicago:20240902T143000
UID:e33b88950b858f2e7069d9d9633e9623
DTSTAMP:20260419T131000
DESCRIPTION:Instructors: Kevin V. Haynes
END:VEVENT
BEGIN:VEVENT
SUMMARY:U.S. Law, an Introduction
LOCATION:TNH 2.123
DTSTART;TZID=America/Chicago:20240828T143000
DTEND;TZID=America/Chicago:20240828T154500
RRULE:FREQ=WEEKLY;BYDAY=WE;UNTIL=20241209T220000
UID:9759ad1a0df384e80d356264381d4e8f
DTSTAMP:20260419T131000
DESCRIPTION:Instructors: Kevin V. Haynes
END:VEVENT
END:VCALENDAR
