BEGIN:VCALENDAR
VERSION:2.0
PRODID:-//law.utexas.edu//Course Schedule//EN
CALSCALE:GREGORIAN
METHOD:PUBLISH
BEGIN:VTIMEZONE
TZID:America/Chicago
X-LIC-LOCATION:America/Chicago
BEGIN:DAYLIGHT
TZOFFSETFROM:-0600
TZOFFSETTO:-0500
TZNAME:CDT
DTSTART:19700308T020000
RRULE:FREQ=YEARLY;BYMONTH=3;BYDAY=2SU
END:DAYLIGHT
BEGIN:STANDARD
TZOFFSETFROM:-0500
TZOFFSETTO:-0600
TZNAME:CST
DTSTART:19701101T020000
RRULE:FREQ=YEARLY;BYMONTH=11;BYDAY=1SU
END:STANDARD
END:VTIMEZONE
BEGIN:VEVENT
SUMMARY:Banking Regulation and the Federal Deposit Insurance Corporation (FDIC)
LOCATION:TNH 3.124
DTSTART;TZID=America/Chicago:20240829T095000
DTEND;TZID=America/Chicago:20240829T114000
RRULE:FREQ=WEEKLY;BYDAY=TH;UNTIL=20241209T220000
UID:9c6f51646691e08f4623dc4b68d266d1
DTSTAMP:20260419T121450
DESCRIPTION:Instructors: Arleas Upton Kea
END:VEVENT
END:VCALENDAR
