BEGIN:VCALENDAR
VERSION:2.0
PRODID:-//law.utexas.edu//Course Schedule//EN
CALSCALE:GREGORIAN
METHOD:PUBLISH
BEGIN:VTIMEZONE
TZID:America/Chicago
X-LIC-LOCATION:America/Chicago
BEGIN:DAYLIGHT
TZOFFSETFROM:-0600
TZOFFSETTO:-0500
TZNAME:CDT
DTSTART:19700308T020000
RRULE:FREQ=YEARLY;BYMONTH=3;BYDAY=2SU
END:DAYLIGHT
BEGIN:STANDARD
TZOFFSETFROM:-0500
TZOFFSETTO:-0600
TZNAME:CST
DTSTART:19701101T020000
RRULE:FREQ=YEARLY;BYMONTH=11;BYDAY=1SU
END:STANDARD
END:VTIMEZONE
BEGIN:VEVENT
SUMMARY:Private Equity and Venture Capital Fund Formation
LOCATION:TNH 3.124
DTSTART;TZID=America/Chicago:20240830T130000
DTEND;TZID=America/Chicago:20240830T200000
RRULE:FREQ=WEEKLY;BYDAY=FR;UNTIL=20241209T220000
UID:2d3ffc4a53a7ba7b8d995e4515de231f
DTSTAMP:20260419T130950
DESCRIPTION:Instructors: Eliot C. Cotton
END:VEVENT
BEGIN:VEVENT
SUMMARY:Private Equity and Venture Capital Fund Formation
LOCATION:TNH 3.124
DTSTART;TZID=America/Chicago:20240831T090000
DTEND;TZID=America/Chicago:20240831T160000
RRULE:FREQ=WEEKLY;BYDAY=SA;UNTIL=20241209T220000
UID:0ff56fa18f3837a12b063ecb4951f7ac
DTSTAMP:20260419T130950
DESCRIPTION:Instructors: Eliot C. Cotton
END:VEVENT
END:VCALENDAR
