BEGIN:VCALENDAR
VERSION:2.0
PRODID:-//law.utexas.edu//Course Schedule//EN
CALSCALE:GREGORIAN
METHOD:PUBLISH
BEGIN:VTIMEZONE
TZID:America/Chicago
X-LIC-LOCATION:America/Chicago
BEGIN:DAYLIGHT
TZOFFSETFROM:-0600
TZOFFSETTO:-0500
TZNAME:CDT
DTSTART:19700308T020000
RRULE:FREQ=YEARLY;BYMONTH=3;BYDAY=2SU
END:DAYLIGHT
BEGIN:STANDARD
TZOFFSETFROM:-0500
TZOFFSETTO:-0600
TZNAME:CST
DTSTART:19701101T020000
RRULE:FREQ=YEARLY;BYMONTH=11;BYDAY=1SU
END:STANDARD
END:VTIMEZONE
BEGIN:VEVENT
SUMMARY:Cutting-Edge Constitutional Litigation from the Trial Court to the Supreme Court
LOCATION:TNH 3.114
DTSTART;TZID=America/Chicago:20240829T095000
DTEND;TZID=America/Chicago:20240829T114000
RRULE:FREQ=WEEKLY;BYDAY=TH;UNTIL=20241209T220000
UID:84ba92cc0dfb66d2a08814a631c4a9bc
DTSTAMP:20260419T081055
DESCRIPTION:Instructors: Jeffrey T. Rowes
END:VEVENT
END:VCALENDAR
