BEGIN:VCALENDAR
VERSION:2.0
PRODID:-//law.utexas.edu//Course Schedule//EN
CALSCALE:GREGORIAN
METHOD:PUBLISH
BEGIN:VTIMEZONE
TZID:America/Chicago
X-LIC-LOCATION:America/Chicago
BEGIN:DAYLIGHT
TZOFFSETFROM:-0600
TZOFFSETTO:-0500
TZNAME:CDT
DTSTART:19700308T020000
RRULE:FREQ=YEARLY;BYMONTH=3;BYDAY=2SU
END:DAYLIGHT
BEGIN:STANDARD
TZOFFSETFROM:-0500
TZOFFSETTO:-0600
TZNAME:CST
DTSTART:19701101T020000
RRULE:FREQ=YEARLY;BYMONTH=11;BYDAY=1SU
END:STANDARD
END:VTIMEZONE
BEGIN:VEVENT
SUMMARY:Contemporary Issues in Policing, Prosecution, and Punishment through Law and Film
LOCATION:JON 5.206
DTSTART;TZID=America/Chicago:20240827T155500
DTEND;TZID=America/Chicago:20240827T174500
RRULE:FREQ=WEEKLY;BYDAY=TU;UNTIL=20241209T220000
UID:75c527322c30ca8dbfd763745aecf556
DTSTAMP:20260419T104146
DESCRIPTION:Instructors: Raoul D. Schonemann
END:VEVENT
END:VCALENDAR
