BEGIN:VCALENDAR
VERSION:2.0
PRODID:-//law.utexas.edu//Course Schedule//EN
CALSCALE:GREGORIAN
METHOD:PUBLISH
BEGIN:VTIMEZONE
TZID:America/Chicago
X-LIC-LOCATION:America/Chicago
BEGIN:DAYLIGHT
TZOFFSETFROM:-0600
TZOFFSETTO:-0500
TZNAME:CDT
DTSTART:19700308T020000
RRULE:FREQ=YEARLY;BYMONTH=3;BYDAY=2SU
END:DAYLIGHT
BEGIN:STANDARD
TZOFFSETFROM:-0500
TZOFFSETTO:-0600
TZNAME:CST
DTSTART:19701101T020000
RRULE:FREQ=YEARLY;BYMONTH=11;BYDAY=1SU
END:STANDARD
END:VTIMEZONE
BEGIN:VEVENT
SUMMARY:Indigent Defense
LOCATION:CCJ 3.306
DTSTART;TZID=America/Chicago:20240828T155500
DTEND;TZID=America/Chicago:20240828T174500
RRULE:FREQ=WEEKLY;BYDAY=WE;UNTIL=20241209T220000
UID:e181858e94926ef233f6ca368aafccf5
DTSTAMP:20260419T081122
DESCRIPTION:Instructors: Karly Jo Dixon, Sarah Mae Jennings
END:VEVENT
END:VCALENDAR
