BEGIN:VCALENDAR
VERSION:2.0
PRODID:-//law.utexas.edu//Course Schedule//EN
CALSCALE:GREGORIAN
METHOD:PUBLISH
BEGIN:VTIMEZONE
TZID:America/Chicago
X-LIC-LOCATION:America/Chicago
BEGIN:DAYLIGHT
TZOFFSETFROM:-0600
TZOFFSETTO:-0500
TZNAME:CDT
DTSTART:19700308T020000
RRULE:FREQ=YEARLY;BYMONTH=3;BYDAY=2SU
END:DAYLIGHT
BEGIN:STANDARD
TZOFFSETFROM:-0500
TZOFFSETTO:-0600
TZNAME:CST
DTSTART:19701101T020000
RRULE:FREQ=YEARLY;BYMONTH=11;BYDAY=1SU
END:STANDARD
END:VTIMEZONE
BEGIN:VEVENT
SUMMARY:White Collar Defense and Investigations
LOCATION:TNH 3.127
DTSTART;TZID=America/Chicago:20240826T095000
DTEND;TZID=America/Chicago:20240826T114000
RRULE:FREQ=WEEKLY;BYDAY=MO;UNTIL=20241209T220000
EXDATE;TZID=America/Chicago:20240902T095000
UID:03b51d4ffaf4551b301aebf039278f52
DTSTAMP:20260419T155603
DESCRIPTION:Instructors: Sara Catherine Clark, Stephen Keith Moulton
END:VEVENT
END:VCALENDAR
