BEGIN:VCALENDAR
VERSION:2.0
PRODID:-//law.utexas.edu//Course Schedule//EN
CALSCALE:GREGORIAN
METHOD:PUBLISH
BEGIN:VTIMEZONE
TZID:America/Chicago
X-LIC-LOCATION:America/Chicago
BEGIN:DAYLIGHT
TZOFFSETFROM:-0600
TZOFFSETTO:-0500
TZNAME:CDT
DTSTART:19700308T020000
RRULE:FREQ=YEARLY;BYMONTH=3;BYDAY=2SU
END:DAYLIGHT
BEGIN:STANDARD
TZOFFSETFROM:-0500
TZOFFSETTO:-0600
TZNAME:CST
DTSTART:19701101T020000
RRULE:FREQ=YEARLY;BYMONTH=11;BYDAY=1SU
END:STANDARD
END:VTIMEZONE
BEGIN:VEVENT
SUMMARY:New Venture Creation
LOCATION:RRH 5.420
DTSTART;TZID=America/Chicago:20240826T093000
DTEND;TZID=America/Chicago:20240826T110000
RRULE:FREQ=WEEKLY;BYDAY=MO,WE;UNTIL=20241209T220000
EXDATE;TZID=America/Chicago:20240902T093000
UID:a503f7ebffe73b4d82701bcf9d82f073
DTSTAMP:20260419T121532
DESCRIPTION:Instructors: Michael S Peterson
END:VEVENT
END:VCALENDAR
