BEGIN:VCALENDAR
VERSION:2.0
PRODID:-//law.utexas.edu//Course Schedule//EN
CALSCALE:GREGORIAN
METHOD:PUBLISH
BEGIN:VTIMEZONE
TZID:America/Chicago
X-LIC-LOCATION:America/Chicago
BEGIN:DAYLIGHT
TZOFFSETFROM:-0600
TZOFFSETTO:-0500
TZNAME:CDT
DTSTART:19700308T020000
RRULE:FREQ=YEARLY;BYMONTH=3;BYDAY=2SU
END:DAYLIGHT
BEGIN:STANDARD
TZOFFSETFROM:-0500
TZOFFSETTO:-0600
TZNAME:CST
DTSTART:19701101T020000
RRULE:FREQ=YEARLY;BYMONTH=11;BYDAY=1SU
END:STANDARD
END:VTIMEZONE
BEGIN:VEVENT
SUMMARY:Clinic: Entrepreneurship/Community Development
LOCATION:CCJ 3.306
DTSTART;TZID=America/Chicago:20240826T143000
DTEND;TZID=America/Chicago:20240826T163000
RRULE:FREQ=WEEKLY;BYDAY=MO;UNTIL=20241209T220000
EXDATE;TZID=America/Chicago:20240902T143000
UID:9b4f11a85c7cc51b47ceea6ea308a547
DTSTAMP:20260419T155608
DESCRIPTION:Instructors: Frances Leos Martinez, Miriam A. Khalifa
END:VEVENT
END:VCALENDAR
