BEGIN:VCALENDAR
VERSION:2.0
PRODID:-//law.utexas.edu//Course Schedule//EN
CALSCALE:GREGORIAN
METHOD:PUBLISH
BEGIN:VTIMEZONE
TZID:America/Chicago
X-LIC-LOCATION:America/Chicago
BEGIN:DAYLIGHT
TZOFFSETFROM:-0600
TZOFFSETTO:-0500
TZNAME:CDT
DTSTART:19700308T020000
RRULE:FREQ=YEARLY;BYMONTH=3;BYDAY=2SU
END:DAYLIGHT
BEGIN:STANDARD
TZOFFSETFROM:-0500
TZOFFSETTO:-0600
TZNAME:CST
DTSTART:19701101T020000
RRULE:FREQ=YEARLY;BYMONTH=11;BYDAY=1SU
END:STANDARD
END:VTIMEZONE
BEGIN:VEVENT
SUMMARY:Clinic: Immigration
LOCATION:TNH 3.129
DTSTART;TZID=America/Chicago:20240827T155500
DTEND;TZID=America/Chicago:20240827T172500
RRULE:FREQ=WEEKLY;BYDAY=TU,TH;UNTIL=20241209T220000
UID:deb88cee8c0a30785d109d94fb47233c
DTSTAMP:20260419T081113
DESCRIPTION:Instructors: Denise L. Gilman, Elissa C. Steglich, Julie D. Wimmer
END:VEVENT
END:VCALENDAR
