BEGIN:VCALENDAR
VERSION:2.0
PRODID:-//law.utexas.edu//Course Schedule//EN
CALSCALE:GREGORIAN
METHOD:PUBLISH
BEGIN:VTIMEZONE
TZID:America/Chicago
X-LIC-LOCATION:America/Chicago
BEGIN:DAYLIGHT
TZOFFSETFROM:-0600
TZOFFSETTO:-0500
TZNAME:CDT
DTSTART:19700308T020000
RRULE:FREQ=YEARLY;BYMONTH=3;BYDAY=2SU
END:DAYLIGHT
BEGIN:STANDARD
TZOFFSETFROM:-0500
TZOFFSETTO:-0600
TZNAME:CST
DTSTART:19701101T020000
RRULE:FREQ=YEARLY;BYMONTH=11;BYDAY=1SU
END:STANDARD
END:VTIMEZONE
BEGIN:VEVENT
SUMMARY:Internship: Public Service
LOCATION:JON 6.257
DTSTART;TZID=America/Chicago:20240826T155500
DTEND;TZID=America/Chicago:20240826T171000
RRULE:FREQ=WEEKLY;BYDAY=MO;UNTIL=20241209T220000
EXDATE;TZID=America/Chicago:20240902T155500
UID:5ce11e382e7fab1dd668dcc63ca56f52
DTSTAMP:20260419T081047
DESCRIPTION:Instructors: Nicole Sheree Simmons
END:VEVENT
END:VCALENDAR
