BEGIN:VCALENDAR
VERSION:2.0
PRODID:-//law.utexas.edu//Course Schedule//EN
CALSCALE:GREGORIAN
METHOD:PUBLISH
BEGIN:VTIMEZONE
TZID:America/Chicago
X-LIC-LOCATION:America/Chicago
BEGIN:DAYLIGHT
TZOFFSETFROM:-0600
TZOFFSETTO:-0500
TZNAME:CDT
DTSTART:19700308T020000
RRULE:FREQ=YEARLY;BYMONTH=3;BYDAY=2SU
END:DAYLIGHT
BEGIN:STANDARD
TZOFFSETFROM:-0500
TZOFFSETTO:-0600
TZNAME:CST
DTSTART:19701101T020000
RRULE:FREQ=YEARLY;BYMONTH=11;BYDAY=1SU
END:STANDARD
END:VTIMEZONE
BEGIN:VEVENT
SUMMARY:Internship: Prosecution
LOCATION:TNH 3.140
DTSTART;TZID=America/Chicago:20240828T175500
DTEND;TZID=America/Chicago:20240828T192500
RRULE:FREQ=WEEKLY;BYDAY=WE;UNTIL=20241209T220000
UID:1ffb7acc11aa86ac086aa1333c89420b
DTSTAMP:20260419T121449
DESCRIPTION:Instructors: Erik A. Nielsen, Robert N. Kepple
END:VEVENT
END:VCALENDAR
