BEGIN:VCALENDAR
VERSION:2.0
PRODID:-//law.utexas.edu//Course Schedule//EN
CALSCALE:GREGORIAN
METHOD:PUBLISH
BEGIN:VTIMEZONE
TZID:America/Chicago
X-LIC-LOCATION:America/Chicago
BEGIN:DAYLIGHT
TZOFFSETFROM:-0600
TZOFFSETTO:-0500
TZNAME:CDT
DTSTART:19700308T020000
RRULE:FREQ=YEARLY;BYMONTH=3;BYDAY=2SU
END:DAYLIGHT
BEGIN:STANDARD
TZOFFSETFROM:-0500
TZOFFSETTO:-0600
TZNAME:CST
DTSTART:19701101T020000
RRULE:FREQ=YEARLY;BYMONTH=11;BYDAY=1SU
END:STANDARD
END:VTIMEZONE
BEGIN:VEVENT
SUMMARY:SMNR: Business Scandal and Crisis Management: Case Studies in Compliance
LOCATION:TNH 3.129
DTSTART;TZID=America/Chicago:20240830T095000
DTEND;TZID=America/Chicago:20240830T114000
RRULE:FREQ=WEEKLY;BYDAY=FR;UNTIL=20241209T220000
UID:4485eee1259dfab642a1002a12acdffd
DTSTAMP:20260419T121529
DESCRIPTION:Instructors: Simon Lorne
END:VEVENT
END:VCALENDAR
