BEGIN:VCALENDAR
VERSION:2.0
PRODID:-//law.utexas.edu//Course Schedule//EN
CALSCALE:GREGORIAN
METHOD:PUBLISH
BEGIN:VTIMEZONE
TZID:America/Chicago
X-LIC-LOCATION:America/Chicago
BEGIN:DAYLIGHT
TZOFFSETFROM:-0600
TZOFFSETTO:-0500
TZNAME:CDT
DTSTART:19700308T020000
RRULE:FREQ=YEARLY;BYMONTH=3;BYDAY=2SU
END:DAYLIGHT
BEGIN:STANDARD
TZOFFSETFROM:-0500
TZOFFSETTO:-0600
TZNAME:CST
DTSTART:19701101T020000
RRULE:FREQ=YEARLY;BYMONTH=11;BYDAY=1SU
END:STANDARD
END:VTIMEZONE
BEGIN:VEVENT
SUMMARY:SMNR: Law and Religion in the Modern Middle East
LOCATION:CAL 422
DTSTART;TZID=America/Chicago:20240827T140000
DTEND;TZID=America/Chicago:20240827T170000
RRULE:FREQ=WEEKLY;BYDAY=TU;UNTIL=20241209T220000
UID:5d6d7d8dde08c89b832e47abf97638a8
DTSTAMP:20260419T055621
DESCRIPTION:Instructors: Samy Ayoub
END:VEVENT
END:VCALENDAR
