BEGIN:VCALENDAR
VERSION:2.0
PRODID:-//law.utexas.edu//Course Schedule//EN
CALSCALE:GREGORIAN
METHOD:PUBLISH
BEGIN:VTIMEZONE
TZID:America/Chicago
X-LIC-LOCATION:America/Chicago
BEGIN:DAYLIGHT
TZOFFSETFROM:-0600
TZOFFSETTO:-0500
TZNAME:CDT
DTSTART:19700308T020000
RRULE:FREQ=YEARLY;BYMONTH=3;BYDAY=2SU
END:DAYLIGHT
BEGIN:STANDARD
TZOFFSETFROM:-0500
TZOFFSETTO:-0600
TZNAME:CST
DTSTART:19701101T020000
RRULE:FREQ=YEARLY;BYMONTH=11;BYDAY=1SU
END:STANDARD
END:VTIMEZONE
BEGIN:VEVENT
SUMMARY:Persuasive Writing and Advocacy
LOCATION:TNH 2.124
DTSTART;TZID=America/Chicago:20250116T103000
DTEND;TZID=America/Chicago:20250116T113700
RRULE:FREQ=WEEKLY;BYDAY=TH;UNTIL=20250428T220000
EXDATE;TZID=America/Chicago:20250320T103000
UID:7e500de32493a3288f5b139f62a91cad
DTSTAMP:20260419T135718
DESCRIPTION:Instructors: Lori R. Mason
END:VEVENT
BEGIN:VEVENT
SUMMARY:Persuasive Writing and Advocacy
LOCATION:TNH 2.124
DTSTART;TZID=America/Chicago:20250117T115000
DTEND;TZID=America/Chicago:20250117T125700
RRULE:FREQ=WEEKLY;BYDAY=FR;UNTIL=20250428T220000
UID:6c4c4d8daa44f9b777f914ac8104b3fd
DTSTAMP:20260419T135718
DESCRIPTION:Instructors: Lori R. Mason
END:VEVENT
END:VCALENDAR
