BEGIN:VCALENDAR
VERSION:2.0
PRODID:-//law.utexas.edu//Course Schedule//EN
CALSCALE:GREGORIAN
METHOD:PUBLISH
BEGIN:VTIMEZONE
TZID:America/Chicago
X-LIC-LOCATION:America/Chicago
BEGIN:DAYLIGHT
TZOFFSETFROM:-0600
TZOFFSETTO:-0500
TZNAME:CDT
DTSTART:19700308T020000
RRULE:FREQ=YEARLY;BYMONTH=3;BYDAY=2SU
END:DAYLIGHT
BEGIN:STANDARD
TZOFFSETFROM:-0500
TZOFFSETTO:-0600
TZNAME:CST
DTSTART:19701101T020000
RRULE:FREQ=YEARLY;BYMONTH=11;BYDAY=1SU
END:STANDARD
END:VTIMEZONE
BEGIN:VEVENT
SUMMARY:Negotiation
LOCATION:TNH 3.142
DTSTART;TZID=America/Chicago:20250113T155500
DTEND;TZID=America/Chicago:20250113T183500
RRULE:FREQ=WEEKLY;BYDAY=MO;UNTIL=20250428T220000
EXDATE;TZID=America/Chicago:20250317T155500
UID:fdb82ef952ec5c76f4afa1334163b950
DTSTAMP:20260419T115123
DESCRIPTION:Instructors: Jeffrey Robert Jury
END:VEVENT
END:VCALENDAR
