BEGIN:VCALENDAR
VERSION:2.0
PRODID:-//law.utexas.edu//Course Schedule//EN
CALSCALE:GREGORIAN
METHOD:PUBLISH
BEGIN:VTIMEZONE
TZID:America/Chicago
X-LIC-LOCATION:America/Chicago
BEGIN:DAYLIGHT
TZOFFSETFROM:-0600
TZOFFSETTO:-0500
TZNAME:CDT
DTSTART:19700308T020000
RRULE:FREQ=YEARLY;BYMONTH=3;BYDAY=2SU
END:DAYLIGHT
BEGIN:STANDARD
TZOFFSETFROM:-0500
TZOFFSETTO:-0600
TZNAME:CST
DTSTART:19701101T020000
RRULE:FREQ=YEARLY;BYMONTH=11;BYDAY=1SU
END:STANDARD
END:VTIMEZONE
BEGIN:VEVENT
SUMMARY:International Investor/State Arbitration
LOCATION:TNH 3.126
DTSTART;TZID=America/Chicago:20250113T155500
DTEND;TZID=America/Chicago:20250113T190500
RRULE:FREQ=WEEKLY;BYDAY=MO;UNTIL=20250428T220000
EXDATE;TZID=America/Chicago:20250317T155500
UID:9106c0198067124a8a030f786fa9ea51
DTSTAMP:20260420T085652
DESCRIPTION:Instructors: James Lloyd Loftis, Richard D. Deutsch, Timothy J. Tyler
END:VEVENT
END:VCALENDAR
